BEGIN:VCALENDAR
VERSION:2.0
PRODID:-//AI4SoilHealth - ECPv6.15.20//NONSGML v1.0//EN
CALSCALE:GREGORIAN
METHOD:PUBLISH
X-ORIGINAL-URL:https://ai4soilhealth.eu
X-WR-CALDESC:Events for AI4SoilHealth
REFRESH-INTERVAL;VALUE=DURATION:PT1H
X-Robots-Tag:noindex
X-PUBLISHED-TTL:PT1H
BEGIN:VTIMEZONE
TZID:Europe/Amsterdam
BEGIN:DAYLIGHT
TZOFFSETFROM:+0100
TZOFFSETTO:+0200
TZNAME:CEST
DTSTART:20250330T010000
END:DAYLIGHT
BEGIN:STANDARD
TZOFFSETFROM:+0200
TZOFFSETTO:+0100
TZNAME:CET
DTSTART:20251026T010000
END:STANDARD
BEGIN:DAYLIGHT
TZOFFSETFROM:+0100
TZOFFSETTO:+0200
TZNAME:CEST
DTSTART:20260329T010000
END:DAYLIGHT
BEGIN:STANDARD
TZOFFSETFROM:+0200
TZOFFSETTO:+0100
TZNAME:CET
DTSTART:20261025T010000
END:STANDARD
BEGIN:DAYLIGHT
TZOFFSETFROM:+0100
TZOFFSETTO:+0200
TZNAME:CEST
DTSTART:20270328T010000
END:DAYLIGHT
BEGIN:STANDARD
TZOFFSETFROM:+0200
TZOFFSETTO:+0100
TZNAME:CET
DTSTART:20271031T010000
END:STANDARD
END:VTIMEZONE
BEGIN:VEVENT
DTSTART;VALUE=DATE:20261207
DTEND;VALUE=DATE:20261211
DTSTAMP:20260422T004738
CREATED:20260415T131609Z
LAST-MODIFIED:20260415T131911Z
UID:227936-1796601600-1796947199@ai4soilhealth.eu
SUMMARY:Soil Health Now! 2026
DESCRIPTION:Join us for the 2026 Soil Health Now! & AI 4 Soil Health Final Event. This four-day international conference and the final AI4SoilHealth project event with feature keynotes\, discussion forums\, oral talks\, workshops and demonstrations + fieldwork: science\, technology and business intelligence for measuring monitoring and increasing soil health. The event will be held at Aristotle University Research Dissemination Center (KEDEA)\, in Thessaloniki\, Greece\, from 7th-10th December 2026. \nBook your ticket via the event website \nWhat to expect\nSoil Health Now! seeks to create a space for exchanging ideas on soil monitoring\, science\, technology\, and business intelligence for measuring\, monitoring\, and increasing soil health. The event will feature collaborations with key stakeholders; presentations of AI4SoilHealth and other Soil Mission project outputs\, pilot sites\, soil instruments demos\, and panel discussions with farmers and agricultural experts that will encourage a collaboration among parties. \nSubmit your proposal\nWe’re also inviting submissions for oral talks\, posters and workshops / demos. You can directly submit your proposal via Pretalx. Applications will close on 1st June 2026. \nWho is the event aimed at?\nThe conference is designed for a diverse group of participants\, including: Project Partners from the AI4SoilHealth and Soil Health Benchmarks projects; Soil Health Experts: Researchers and scientists specialising in soil health; EU Agencies and Programs: Representatives from the Joint Research Centre (JRC)\, the European Environment Agency (EEA)\, and other relevant EU bodies; Institutions: Universities and research institutions engaged in soil health studies; Farmer Associations: Groups representing farmers\, including both established and young farmers; Industry Members: Companies involved in agricultural technology and business intelligence related to soil health; Non-Governmental Organisations (NGOs): Organisations focused on environmental sustainability and soil health.
URL:https://ai4soilhealth.eu/event/soil-health-now-2026/
ATTACH;FMTTYPE=image/png:https://ai4soilhealth.eu/wp-content/uploads/2026/04/Linked_In_event_banner_2_2026.png
END:VEVENT
END:VCALENDAR