BEGIN:VCALENDAR
VERSION:2.0
PRODID:-//AI4SoilHealth - ECPv6.15.20//NONSGML v1.0//EN
CALSCALE:GREGORIAN
METHOD:PUBLISH
X-WR-CALNAME:AI4SoilHealth
X-ORIGINAL-URL:https://ai4soilhealth.eu
X-WR-CALDESC:Events for AI4SoilHealth
REFRESH-INTERVAL;VALUE=DURATION:PT1H
X-Robots-Tag:noindex
X-PUBLISHED-TTL:PT1H
BEGIN:VTIMEZONE
TZID:Europe/Amsterdam
BEGIN:DAYLIGHT
TZOFFSETFROM:+0100
TZOFFSETTO:+0200
TZNAME:CEST
DTSTART:20220327T010000
END:DAYLIGHT
BEGIN:STANDARD
TZOFFSETFROM:+0200
TZOFFSETTO:+0100
TZNAME:CET
DTSTART:20221030T010000
END:STANDARD
BEGIN:DAYLIGHT
TZOFFSETFROM:+0100
TZOFFSETTO:+0200
TZNAME:CEST
DTSTART:20230326T010000
END:DAYLIGHT
BEGIN:STANDARD
TZOFFSETFROM:+0200
TZOFFSETTO:+0100
TZNAME:CET
DTSTART:20231029T010000
END:STANDARD
BEGIN:DAYLIGHT
TZOFFSETFROM:+0100
TZOFFSETTO:+0200
TZNAME:CEST
DTSTART:20240331T010000
END:DAYLIGHT
BEGIN:STANDARD
TZOFFSETFROM:+0200
TZOFFSETTO:+0100
TZNAME:CET
DTSTART:20241027T010000
END:STANDARD
BEGIN:DAYLIGHT
TZOFFSETFROM:+0100
TZOFFSETTO:+0200
TZNAME:CEST
DTSTART:20250330T010000
END:DAYLIGHT
BEGIN:STANDARD
TZOFFSETFROM:+0200
TZOFFSETTO:+0100
TZNAME:CET
DTSTART:20251026T010000
END:STANDARD
BEGIN:DAYLIGHT
TZOFFSETFROM:+0100
TZOFFSETTO:+0200
TZNAME:CEST
DTSTART:20260329T010000
END:DAYLIGHT
BEGIN:STANDARD
TZOFFSETFROM:+0200
TZOFFSETTO:+0100
TZNAME:CET
DTSTART:20261025T010000
END:STANDARD
END:VTIMEZONE
BEGIN:VTIMEZONE
TZID:Europe/London
BEGIN:DAYLIGHT
TZOFFSETFROM:+0000
TZOFFSETTO:+0100
TZNAME:BST
DTSTART:20240331T010000
END:DAYLIGHT
BEGIN:STANDARD
TZOFFSETFROM:+0100
TZOFFSETTO:+0000
TZNAME:GMT
DTSTART:20241027T010000
END:STANDARD
BEGIN:DAYLIGHT
TZOFFSETFROM:+0000
TZOFFSETTO:+0100
TZNAME:BST
DTSTART:20250330T010000
END:DAYLIGHT
BEGIN:STANDARD
TZOFFSETFROM:+0100
TZOFFSETTO:+0000
TZNAME:GMT
DTSTART:20251026T010000
END:STANDARD
BEGIN:DAYLIGHT
TZOFFSETFROM:+0000
TZOFFSETTO:+0100
TZNAME:BST
DTSTART:20260329T010000
END:DAYLIGHT
BEGIN:STANDARD
TZOFFSETFROM:+0100
TZOFFSETTO:+0000
TZNAME:GMT
DTSTART:20261025T010000
END:STANDARD
END:VTIMEZONE
BEGIN:VEVENT
DTSTART;TZID=Europe/Amsterdam:20250725T103000
DTEND;TZID=Europe/Amsterdam:20250725T120000
DTSTAMP:20260422T034410
CREATED:20250623T115541Z
LAST-MODIFIED:20250623T115541Z
UID:227325-1753439400-1753444800@ai4soilhealth.eu
SUMMARY:Making the case for soil health monitoring
DESCRIPTION:Join the second session in the series “Envisioning the future of soil health monitoring”\, hosted by the Soil Association. \nBook your ticket via eventbrite here.  \n\n\nMaking the case for soil health monitoring\nWhy does soil health monitoring matter? What are some of the latest tools scientists are developing to make it easier? And what ambitions do policy makers have for monitoring frameworks of the future? Sign up to this free webinar to join leading experts to discuss these topics and learn more about the future of soil science. \nThe webinar will bring together the perspectives of farmers\, policy makers and scientists on soil monitoring practices\, and ground key concepts in the current EU farming and land use landscape. The panel will discuss the value of soil monitoring from three vital perspectives: on-the-ground practice\, scientific research\, and policy development. \nJoin: \n\nKaren Fisher\, farming advisor\, Soil Association\nNils Broothaerts\, policy specialist\, EU Soil Observatory\, part of the European Commission Joint Research Centre (JRC)\nFatemah Hateffard\, soil scientist\, Stockholm University\n\n“What’s exciting is the shift from reactive to proactive land management. With emerging technologies like AI\, in-field sensors\, and geospatial tools\, we now have the ability not just to benchmark soil health\, but to build predictive insights that help anticipate local challenges like drought\, flooding or nutrient loss.” \nKaren Fisher\, Soil Association \nThis webinar series for AI 4 Soil Health explores how AI\, open data and new research is transforming soil health monitoring and management across Europe. \nFind out more about the AI 4 Soil Health project: https://ai4soilhealth.eu/about \n\n\n\n\nWhat to Expect? \n\nLearn why soil monitoring matters from the perspectives of both farmers and policy makers\, through hearing from Karen Fisher\, Farming Advisor at the Soil Association and Nils Broothaerts\, Scientific Project Officer for the EU Soil Observatory\, part of the European Commission Joint Research Centre.\nHear from soil scientist Fatemeh Hateffard of Stockholm University about the indicators we measure in the ground and the new technology\, including spectroscopy and beyond\, being used to do so.\nAsk your questions to Karen\, Nils and Fatemeh through a live Q&A.\n\nWhat is the relevance of soil monitoring for farmers\, researchers and policy makers? \nThe EU “Soil Monitoring and Resilience Directive”\, agreed in April 2025\, is the first of its kind to set legal standards for assessing and improving soil health across member states. Its goal is for all EU soils to reach a healthy condition by 2050\, supporting broader environmental targets like the European Green Deal. \nBut why is soil monitoring making its way up the agenda? \n\nAcross the EU and UK\, significant areas of soil are under pressure – from everything from compaction to loss of organic matter – and the effects aren’t always visible until productivity declines or flooding worsens.\nSoil biology\, encompassing microorganisms like bacteria and fungi\, is fundamental to nutrient cycling\, organic matter decomposition\, and overall soil fertility.\nRobust soil health data\, derived from consistent measurement practices\, provides policymakers with the evidence. This evidence is needed to create stronger\, more targeted agricultural and environmental policies that are inclusive of soil and ultimately deliver meaningful impact for people\, food\, and the environment.\n\nWho Should Attend? \n\nPolicy makers and civil servants who are engaged in soil-related strategies\, projects\, or regulatory initiatives.\n\n\nResearch leaders and scientific experts involved in soil monitoring programmes\, Living Labs and the development of research and innovation policy recommendations.\n\n\nPractitioners and innovators working on soil health and using or testing new monitoring approaches.\n\n\nStakeholders from civil society\, NGOs\, and grassroots movements with an active interest in soil health.\n\n\nPrivate sector representatives contributing to or benefiting from soil health innovations.
URL:https://ai4soilhealth.eu/event/making-the-case-for-soil-health-monitoring/
LOCATION:Online
ATTACH;FMTTYPE=image/jpeg:https://ai4soilhealth.eu/wp-content/uploads/2025/06/1750362776262.jpeg
END:VEVENT
BEGIN:VEVENT
DTSTART;TZID=Europe/London:20250707T103000
DTEND;TZID=Europe/London:20250707T123000
DTSTAMP:20260422T034410
CREATED:20250528T133031Z
LAST-MODIFIED:20250528T140203Z
UID:227276-1751884200-1751891400@ai4soilhealth.eu
SUMMARY:Unlocking the power of open data for soil health
DESCRIPTION:Join the first session in the series “Envisioning the future of soil health monitoring”\, hosted by the Soil Association. \nBook your place now.  \nJoin one of the creators of the Soil Health Data Cube\, OpenGeoHub Foundation\, for this webinar in the AI 4 Soil Health project’s series\, exploring how AI\, open data and new research is transforming soil health monitoring and management across Europe. \nThis webinar will showcase how open\, high-resolution geospatial data is unlocking new ways to model soil systems\, predict climate change impacts\, and drive regenerative agricultural practices. \n“Only farmers and land managers are the agents of change in a landscape. As an open-source community of researchers\, we hope that by surfacing existing and cutting-edge soil information through space and time\, we can cultivate an environment of self-determination for farmers\, to the benefit of all our children.”\nIchsani Wheeler\, OpenGeoHub Foundation \nFind out more about the data cube \nWhat to Expect?\nLearn how open data infrastructure can support decision-making\, policy\, and innovation within agriculture and land management. \nHear from co-directors of OpenGeoHub Foundation\, Tomislav Hengl and Ichsani Wheeler on their experience of creating data infrastructure in the form of the Soil Health Data Cube\, for policymakers and land managers to better manage soil health. \nSee a live demo of the Soil Health Data Cube in action. \nAsk your questions to OpenGeoHub Foundation through a live Q&A. \nWhat is the significance of the Soil Health Data Cube?\nThis platform is providing the data to enable simulated climate and policy scenarios\, identify at-risk soils and test land-use strategies. It will be an invaluable tool for anyone working to restore soil health and reduce land degradation across Europe. \nThe Soil Health Data Cube offers a “digital twin” of Europe’s soils\, integrating: \nDetailed soil health indicators such as carbon stocks\, pH and biodiversity. \nData on soil pollutants\, excess nutrients and salts. \nHistorical land use and vegetation data. \nWho Should Attend?\nPolicy-makers and civil servants who are engaged in soil-related strategies\, projects\, or regulatory initiatives. \nResearch leaders and scientific experts involved in soil monitoring programmes\, Living Labs and the development of research and innovation policy recommendations. \nPractitioners and innovators working on soil health and using or testing new monitoring approaches. \nStakeholders from civil society\, NGOs\, and grassroots movements with an active interest in soil health. \nPrivate sector representatives contributing to or benefiting from soil health innovations.
URL:https://ai4soilhealth.eu/event/unlocking-the-power-of-open-data-for-soil-health/
LOCATION:Online
ATTACH;FMTTYPE=image/jpeg:https://ai4soilhealth.eu/wp-content/uploads/2025/05/Copy-of-AI4SH-social-media-stats-Feb-Apr-25-1.jpg
END:VEVENT
BEGIN:VEVENT
DTSTART;VALUE=DATE:20241204
DTEND;VALUE=DATE:20241205
DTSTAMP:20260422T034410
CREATED:20240705T113411Z
LAST-MODIFIED:20241029T115335Z
UID:226566-1733270400-1733356799@ai4soilhealth.eu
SUMMARY:International conference: ARTIFICIAL INTELLIGENCE FOR SOIL HEALTH
DESCRIPTION:Join us for an international conference on understanding the role of AI and other digital tools on soil health taking place as part of the Budapest Soil Health Forum on 4th December 2024\, in Budapest\, Hungary. This event is to be held back-in-back with the high-level closing event of the Agricultural Chapter of the Hungarian EU presidency. \nREGISTER NOW FOR ONLINE ATTENDANCE (Free)\nThis “AI for Soil Health” conference aims to bring together leading experts\, researchers\, and practitioners to discuss the latest advancements and applications of artificial intelligence in enhancing soil health. \nKey topics include: \nAI-driven soil analysis and monitoring \nPredictive modelling for soil management \nSustainable agriculture practices \nInnovations in soil health assessment \nJoin us for a day of insightful presentations\, networking opportunities\, and collaborative discussions to advance the field of soil health through AI solutions. \nREGISTER NOW FOR ONLINE ATTENDANCE (Free)\n\nTimetable\n\n8:00 – 9:00 Registration\n9:00 – 9:10 Welcome/opening\n9:10 – 10:30 Plenary\n10:30 – 11:00 Coffee\n11:00 – 12:30 Session 1\n12:30 – 13:30 Lunch\n13:30 – 14:45 Session 2\n14:45 – 15:45 Coffee + poster\n15:45 – 17:00 Session 3\n17:00 – 17:15 Wrap up\, closure\n\nSessions and speakers\nPlenary (20 min each presentation)\n\nArwyn Jones\, Joint Research Council  –\nZsombor Diriczi Démétér\, Biosystems Kft.\nTomislav Hengl\, Opengeohub\nKakha Nadiradze\, DesertNet\n\nSession 1: Soil health indicators\, monitoring and spatial modelling (10 min. per presentation + 5 min. Q&A)\n\nGrant Campbell\, University of Aberdeen: ‘Developing a robust soil health indicator framework for Europe’\nDaniel Kibirige\, University of Cape Town: ‘From the Ground Up: A Comprehensive Review of Soil Health Indicators in South Africa’\nNasem Badreldin (online speaker)\, University of Manitoba Integrating: ‘Artificial Intelligence with Spectral Analysis for Precision Soil Organic Carbon Estimation as Soil Health Assessment’\nDomagoj K. Hackenberger\, BioQuant: ‘Leveraging Large Language Models (LLMs) for automated soil health data extraction from ecological research papers’\nLucas Gomes\, Aarhus University: ‘Soil monitoring system at Pan-European scale for soil health assessment across space and time’\n\nSession 2: Novel in-situ and laboratory techniques to assess soil health (10 min. per presentation + 5 min. Q&A)\n\nJosé A. Cayuela-Sánchez\, Spanish National Council for Scientific Research: ‘A compositional (CoDa) for soil organic carbon VISNIR measurement method preventing moisture interference’\nJasmin Fetzer\, Swiss Federal Institute for Forest\, Snow\, and Landscape Research: ‘Novel\, laboratory-independent device to measure extracellular enzymatic activity in soils’\nCarlos Abrahams\, Baker Consultants Ltd: ‘A sound approach to monitoring soil health (ecoacoustic techniques)’\nTamara Djerdj\, Josip Juraj Strossmayer University of Osijek: ‘Application of AI-driven system for monitoring earthworm behaviour in ecotoxicological soil health assessments’\nFatemeh Hateffard\, Stockholm University: ‘New methods for in-situ soil health surveillance’\n\nSession 3: From degradation assessment to smart farming (10 min. per presentation + 5 min. Q&A)\n\nBranimir K. Hackenberger\, SCIOM Bayesian: ‘Networks for soil degradation risk assessment using multivariate data’\nMehdi Afshar\, Hamburg University of Technology: ‘Assessment of the Impact of Climate and Land Cover Changes on Land Degradation’\nClaudia Helena Ramirez Soler\, University of Salamanca: ‘Vulnerability of viticulture to climate change by means of satellite remote sensing techniques in the DO Ribera del Duero’\nJuan Manuel Núñez Velasco\, University of Salamanca: ‘GenAI-based recommender system for monitoring and control of urban gardens’\nStefan Pfeiffer\, Austrian Institute of Technology: ‘GmbH Paving the Way towards Digitalisation Enabling Agroecology for European Farming Systems (PATH2DEA)’\n\nPoster Session:\n\nLivio Antonielli\, AIT Austrian Institute of Technology: Microbial Community Prediction in Plant-Soil Systems Using Machine Learning\nSarem Norouzi\, Aarhus University: Advanced Physics-Informed Machine Learning for Estimating Key Soil Properties Linked to Fundamental Soil Health: Particle Size Distribution and Water Retention Curves\nRobert Minarik\, OpenGeoHub Foundation: Mapping the WRB 2022 soil types of Europe at 30 m resolution\nThomas Oberleitner\, International Institute for Applied Systems: Analysis Polynomial Regression Ensembles for Predicting Crop Yield and Soil Quality Indicators: Towards a Future Soil Health Forecasting Service\nXuemeng Tian\, OpenGeoHub: Spatiotemporal prediction\, uncertainty estimation and their assessment of soil organic carbon density (2000–2022) at 30~m resolution for Europe\nMarko Reljic\, University of Zagreb: Predicting Soil Salinity Using Sensor Data and Machine Learning in a Hydromeliorated River Delta\nMarek Bednář\, Palacký University in Olomouc: Optimizing Soil Block Division to Minimize Erosion: A Comprehensive Simulation Approach Using Agent-Based Modelling\nDominik Bittner\, University of Aberdeen: Towards use of AI-Powered Hybrid Soil Health Assessment to Design Nature-Based Solutions for Restoration of Degraded Soils in Sub-Saharan Africa\n\nRegister now
URL:https://ai4soilhealth.eu/event/international-conference-artificial-intelligence-for-soil-health/
LOCATION:Budapest\, Venue tbc\, Budapest\, Hungary
ATTACH;FMTTYPE=image/png:https://ai4soilhealth.eu/wp-content/uploads/2024/07/Budapest-Soil-Health-Forum-event-meme-register-now-1.png
END:VEVENT
BEGIN:VEVENT
DTSTART;VALUE=DATE:20240124
DTEND;VALUE=DATE:20240127
DTSTAMP:20260422T034410
CREATED:20231219T120555Z
LAST-MODIFIED:20231219T121003Z
UID:226009-1706054400-1706313599@ai4soilhealth.eu
SUMMARY:AI4SoilHealth consortium meeting and general assembly 2024
DESCRIPTION:A meeting of the AI4SoilHealth consortium to discuss progress and agree a collective approach for our deliverables. \nJanuary 24th \nGoal: Confirm the plan of activity to meet the KPIs\, and build the visibility of the project in co-operation with the WP and pilot site outputs and agree an overarching framework for soil health assessment. \nJanuary 25th \nGoal: Discuss the features of Soil Health Data Cube and the functionality AI4SoilHealth app with partners and stakeholders. \nJanuary 26th \nGoal: Discuss soil districts and monitoring systems in an evolving stakeholder landscape.
URL:https://ai4soilhealth.eu/event/ai4soilhealth-consortium-meeting-and-general-assembly-2024/
LOCATION:Bilbao\, Basque Country\, Spain
ATTACH;FMTTYPE=image/webp:https://ai4soilhealth.eu/wp-content/uploads/2023/06/FsUln_mXsAAGJ9h.webp
END:VEVENT
BEGIN:VEVENT
DTSTART;VALUE=DATE:20231010
DTEND;VALUE=DATE:20231012
DTSTAMP:20260422T034410
CREATED:20230804T140714Z
LAST-MODIFIED:20230809T111500Z
UID:225882-1696896000-1697068799@ai4soilhealth.eu
SUMMARY:SOILUZIOAK 2023
DESCRIPTION:SOILUZIOAK 2023 is the soil protection event of the year. The aim is to gather together 250 experts in the field to reflect on the need to manage soil from different perspectives including human health\, biodiversity\, climate change\, food security & safety\, and water quality. #SOILUZIOAK \nFind out more and book your place.
URL:https://ai4soilhealth.eu/event/soiluzioak-2023/
LOCATION:Bilbao\, Basque Country\, Spain
ATTACH;FMTTYPE=image/jpeg:https://ai4soilhealth.eu/wp-content/uploads/2023/08/Soiluzioak.jpg
END:VEVENT
BEGIN:VEVENT
DTSTART;TZID=Europe/Amsterdam:20230921T080000
DTEND;TZID=Europe/Amsterdam:20230923T170000
DTSTAMP:20260422T034410
CREATED:20230628T092617Z
LAST-MODIFIED:20230628T123756Z
UID:225654-1695283200-1695488400@ai4soilhealth.eu
SUMMARY:Open Living Labs Day 2023
DESCRIPTION:OpenLivingLab Days is the flagship annual event organized by the European Network of Living Labs (ENoLL). It is a highly-anticipated gathering that brings together living labbers\, public officials\, corporate leaders\, entrepreneurs\, academics\, and innovators from around the world. The event offers a unique platform for networking\, exchanging best practices\, and collaborating on cutting-edge projects and for reflecting on the latest trends and how to shape the future. \nRead more about the event on this link.
URL:https://ai4soilhealth.eu/event/open-living-labs-day-2023/
LOCATION:Barcelona\, Spain\, Barcelona\, Spain
ATTACH;FMTTYPE=image/jpeg:https://ai4soilhealth.eu/wp-content/uploads/2023/06/event-3-pic.jpg
END:VEVENT
BEGIN:VEVENT
DTSTART;TZID=Europe/Amsterdam:20230913T080000
DTEND;TZID=Europe/Amsterdam:20230915T170000
DTSTAMP:20260422T034410
CREATED:20230628T092200Z
LAST-MODIFIED:20230628T123657Z
UID:225649-1694592000-1694797200@ai4soilhealth.eu
SUMMARY:European Healthy Soils Conference
DESCRIPTION:The topic Healthy Soils is a key element of the European Soil Strategy. This first edition of the European Healthy Soils Conference Series will address the relevance of healthy soils and soil fertility as prerequisite for a functioning society\, environment\, economy\, and climate. \nRead more about the event on this link.
URL:https://ai4soilhealth.eu/event/european-healthy-soils-conference/
LOCATION:Muttenz\, Switzerland\, Muttenz\, Switzerland
ATTACH;FMTTYPE=image/webp:https://ai4soilhealth.eu/wp-content/uploads/2023/06/ehs_banner_1159px.webp
END:VEVENT
BEGIN:VEVENT
DTSTART;TZID=Europe/Amsterdam:20230828T170000
DTEND;TZID=Europe/Amsterdam:20230901T123000
DTSTAMP:20260422T034411
CREATED:20230628T091006Z
LAST-MODIFIED:20230629T160001Z
UID:225636-1693242000-1693571400@ai4soilhealth.eu
SUMMARY:Wageningen Soil Conference
DESCRIPTION:Wageningen University & Research and ISRIC are delighted to invite you to the fifth edition of the Wageningen Soil Conference. The conference has an interactive character with conference sessions as well as workshops on divergent soil-related topics. The focus of the conference will be on working together on solutions for a sustainable world. \nRead more about the event on this link.
URL:https://ai4soilhealth.eu/event/wageningen-soil-conference/
LOCATION:Wageningen University & Research\, Droevendaalsesteeg 4\, 6708 PB Wageningen\, Netherlands\, Wageningen\, Netherlands
ATTACH;FMTTYPE=image/webp:https://ai4soilhealth.eu/wp-content/uploads/2023/06/wageningen-event.webp
END:VEVENT
END:VCALENDAR