BEGIN:VCALENDAR
VERSION:2.0
PRODID:-//AI4SoilHealth - ECPv6.15.20//NONSGML v1.0//EN
CALSCALE:GREGORIAN
METHOD:PUBLISH
X-WR-CALNAME:AI4SoilHealth
X-ORIGINAL-URL:https://ai4soilhealth.eu
X-WR-CALDESC:Events for AI4SoilHealth
REFRESH-INTERVAL;VALUE=DURATION:PT1H
X-Robots-Tag:noindex
X-PUBLISHED-TTL:PT1H
BEGIN:VTIMEZONE
TZID:Europe/Amsterdam
BEGIN:DAYLIGHT
TZOFFSETFROM:+0100
TZOFFSETTO:+0200
TZNAME:CEST
DTSTART:20240331T010000
END:DAYLIGHT
BEGIN:STANDARD
TZOFFSETFROM:+0200
TZOFFSETTO:+0100
TZNAME:CET
DTSTART:20241027T010000
END:STANDARD
BEGIN:DAYLIGHT
TZOFFSETFROM:+0100
TZOFFSETTO:+0200
TZNAME:CEST
DTSTART:20250330T010000
END:DAYLIGHT
BEGIN:STANDARD
TZOFFSETFROM:+0200
TZOFFSETTO:+0100
TZNAME:CET
DTSTART:20251026T010000
END:STANDARD
BEGIN:DAYLIGHT
TZOFFSETFROM:+0100
TZOFFSETTO:+0200
TZNAME:CEST
DTSTART:20260329T010000
END:DAYLIGHT
BEGIN:STANDARD
TZOFFSETFROM:+0200
TZOFFSETTO:+0100
TZNAME:CET
DTSTART:20261025T010000
END:STANDARD
END:VTIMEZONE
BEGIN:VEVENT
DTSTART;TZID=Europe/Amsterdam:20251112T110000
DTEND;TZID=Europe/Amsterdam:20251112T123000
DTSTAMP:20260421T194804
CREATED:20251002T100729Z
LAST-MODIFIED:20251014T092702Z
UID:227611-1762945200-1762950600@ai4soilhealth.eu
SUMMARY:Building soil monitoring into policy
DESCRIPTION:Join the fourth session in the AI 4 Soil Health project webinar series “Envisioning the future of soil health monitoring”. \nBook your ticket via Eventbrite  \nPlease note\, this has been rescheduled for Wednesday 12th November in line with the timeframe for the Soil Monitoring Law being processed\, allowing for a richer discussion in the webinar.\n  \nBuilding soil monitoring into policy\nWhat data do policymakers need to protect soils\, and how will the new EU Soil Monitoring Law help deliver it? How can projects like AI4SH support member states in turning the Soil Monitoring Law into effective monitoring systems on the ground? What lessons can we learn from Denmark’s approach to integrating soil monitoring into its national environmental monitoring programme? \nSign up to this free webinar to join leading experts to discuss these topics and learn more about how soil science is being used to develop European policies. \nIn this webinar we are joined by AI 4 Soil Health project partners and policy experts to discuss the opportunities and challenges of implementing the new Soil Monitoring Law across Europe. The panel will explore how robust soil data can bridge the gap between science and policy\, what practical steps are needed to embed monitoring into national programmes\, and how collaborative projects can accelerate progress towards healthier soils across the EU. \n\nWe are joined by:\n\nGiovanna Giuffrè\, Senior Researcher and Partner at ISINNOVA\nProf. Mogens Humlekrog Greve\, Head of Soil Section at Department of Agroecology\, Aarhus University\nDr. Lucas de Carvalho Gomes\, Postdoctoral Researcher at Department of Agroecology\, Aarhus University\n\n\nWhat to Expect\nGiovanna Giuffrè (Senior Researcher and Partner at ISINNOVA) specialises in foresight\, policy analysis\, and stakeholder engagement to foster meaningful science–policy dialogue. With over 15 years of experience in EU research projects focused on sustainability\, land management\, and agriculture\, she will share insights from AI 4 Soil Health’s stakeholder consultations\, highlighting the need for detailed soil data to inform policy. Her contribution will focus on how the proposed Soil Monitoring Law can help close critical gaps in scale and scope to strengthen decision-making for soil health conservation and remediation. \nHear from Prof. Mogens Humlekrog Greve and Dr. Lucas de Carvalho Gomes of Aarhus University\, who will share insights from Denmark’s experience in preparing for the implementation of the Soil Monitoring Law. They will discuss how their research has simulated the rollout of soil monitoring units\, the role of national ministries in embedding soil into environmental monitoring programmes\, and the practical challenges and opportunities of turning EU-level legislation into effective systems at the member state level.\nAsk your questions to Giovanna\, Mogens and Lucas through a live Q&A. \nThis webinar series for AI 4 Soil Health explores how AI\, open data and new research is transforming soil health monitoring and management across Europe. Find out more about the AI 4 Soil Health project: https://ai4soilhealth.eu/about and watch our previous webinars: Envisioning the future of soil health monitoring – Youtube. \n\nWhy now?\nOn 29 September 2025\, the European Council formally adopted the first-ever EU-wide directive for soil monitoring – a landmark step towards healthier and more resilient soils by 2050. The new Soil Monitoring Law requires member states to set up systems to track the physical\, chemical and biological condition of soils using a common EU methodology. Regular reporting to the Commission and the European Environment Agency will ensure comparable data across the EU\, enabling coordinated action on soil degradation. The law also extends monitoring to emerging contaminants such as PFAS\, pesticides and microplastics. \nWith the European Parliament’s final vote scheduled for late October\, this is a pivotal moment to explore what the law means in practice. How will monitoring be implemented across member states? What data will be needed? And how can projects like AI 4 Soil Health support the transition from policy to action? \nWho Should Attend?\n\nPolicy makers and civil servants who are engaged in soil-related strategies\, projects\, or regulatory initiatives.\nResearch leaders and scientific experts involved in soil monitoring programmes\, Living Labs and the development of research and innovation policy recommendations.\nPractitioners and innovators working on soil health and using or testing new monitoring approaches.\nStakeholders from civil society\, NGOs\, and grassroots movements with an active interest in soil health.\nPrivate sector representatives contributing to or benefiting from soil health innovations.
URL:https://ai4soilhealth.eu/event/building-soil-monitoring-into-policy/
LOCATION:Online
ATTACH;FMTTYPE=image/jpeg:https://ai4soilhealth.eu/wp-content/uploads/2025/10/image-5.jpg
END:VEVENT
END:VCALENDAR